BEGIN:VCALENDAR
VERSION:2.0
PRODID:-//The North Carolina MWBE Coordinators&#039; Network - ECPv6.15.20//NONSGML v1.0//EN
CALSCALE:GREGORIAN
METHOD:PUBLISH
X-WR-CALNAME:The North Carolina MWBE Coordinators&#039; Network
X-ORIGINAL-URL:https://mwbecoordinators.org
X-WR-CALDESC:Events for The North Carolina MWBE Coordinators&#039; Network
REFRESH-INTERVAL;VALUE=DURATION:PT1H
X-Robots-Tag:noindex
X-PUBLISHED-TTL:PT1H
BEGIN:VTIMEZONE
TZID:America/New_York
BEGIN:DAYLIGHT
TZOFFSETFROM:-0500
TZOFFSETTO:-0400
TZNAME:EDT
DTSTART:20250309T070000
END:DAYLIGHT
BEGIN:STANDARD
TZOFFSETFROM:-0400
TZOFFSETTO:-0500
TZNAME:EST
DTSTART:20251102T060000
END:STANDARD
BEGIN:DAYLIGHT
TZOFFSETFROM:-0500
TZOFFSETTO:-0400
TZNAME:EDT
DTSTART:20260308T070000
END:DAYLIGHT
BEGIN:STANDARD
TZOFFSETFROM:-0400
TZOFFSETTO:-0500
TZNAME:EST
DTSTART:20261101T060000
END:STANDARD
BEGIN:DAYLIGHT
TZOFFSETFROM:-0500
TZOFFSETTO:-0400
TZNAME:EDT
DTSTART:20270314T070000
END:DAYLIGHT
BEGIN:STANDARD
TZOFFSETFROM:-0400
TZOFFSETTO:-0500
TZNAME:EST
DTSTART:20271107T060000
END:STANDARD
END:VTIMEZONE
BEGIN:VEVENT
DTSTART;TZID=America/New_York:20260515T080000
DTEND;TZID=America/New_York:20260515T143000
DTSTAMP:20260420T185154
CREATED:20260311T191541Z
LAST-MODIFIED:20260311T191541Z
UID:10000035-1778832000-1778855400@mwbecoordinators.org
SUMMARY:Blueprint for Economic Impact Summit & Impact Expo
DESCRIPTION:Learn how to create a solid plan for growing your business and explore exciting opportunities at the Blueprint for Economic Impact Summit \n\n\n\n\nWelcome to the Blueprint for Economic Impact Summit & Vendor Expo! Join us for a day filled with networking\, learning\, and growth opportunities. This summit will be held at the Hotel Indigo in Mount Pleasant\, South Carolina. \nAre you looking to scale and move your business from commercial construction into data center projects\, critical facilities maintenance\, and management? Are you ready to see how your team can tap into these networks? Then\, this is the Summit for you! \nJoin us for a day of connection and opportunity! \n\nSummit Registration\nEngage in Industry Panels Q&A\nBreakout Sessions with Top Leaders in h\nNetworking Lunch and Vendor Expo
URL:https://mwbecoordinators.org/event/blueprint-for-economic-impact-summit-impact-expo/
LOCATION:Hotel Indigo Mt. Pleasant\, 250 Johnnie Dodds Blvd.\, Mt Pleasant\, SC 29464\, SC\, 29464\, United States
CATEGORIES:Conferences & Workshops
ORGANIZER;CN="The Wonder Company":MAILTO:solutions@thewondergrp.com
END:VEVENT
END:VCALENDAR