BEGIN:VCALENDAR
VERSION:2.0
PRODID:-//The North Carolina MWBE Coordinators&#039; Network - ECPv6.15.20//NONSGML v1.0//EN
CALSCALE:GREGORIAN
METHOD:PUBLISH
X-ORIGINAL-URL:https://mwbecoordinators.org
X-WR-CALDESC:Events for The North Carolina MWBE Coordinators&#039; Network
REFRESH-INTERVAL;VALUE=DURATION:PT1H
X-Robots-Tag:noindex
X-PUBLISHED-TTL:PT1H
BEGIN:VTIMEZONE
TZID:UTC
BEGIN:STANDARD
TZOFFSETFROM:+0000
TZOFFSETTO:+0000
TZNAME:UTC
DTSTART:20230101T000000
END:STANDARD
END:VTIMEZONE
BEGIN:VEVENT
DTSTART;VALUE=DATE:20240408
DTEND;VALUE=DATE:20240410
DTSTAMP:20260422T121535
CREATED:20231010T051246Z
LAST-MODIFIED:20231030T163704Z
UID:10000012-1712534400-1712707199@mwbecoordinators.org
SUMMARY:2024 NC PEAK Procurement Conference
DESCRIPTION:Monday\, April 8 – Tuesday\, April 9\, 2024\, all day\nMcKimmon Conference & Training Center\n1101 Gorman Street\, Raleigh NC 27606\n$125 Early Bird Registration Fee; $150 after 1/8/24\nTheme: Continuing on the Journey to Procurement Excellence\n\nWhat to Expect\n\nNetworking opportunities\nFeatured keynote speaker\nWorkshops to improve your agency’s procurement processes\nNC Procurement Academy graduation and Gold Star Award ceremony\nAnd so much more!\n\nHave a question? Send an email to doa.pc.education@doa.nc.gov. \n  \nVendor Applications\nVendor Application Form \nThe NC Department of Administration’s Division of Purchase & Contract is seeking vendors for the 2024 NC PEAK Procurement Conference that will be held April 8 – 9 at the McKimmon Conference and Training Center in Raleigh. \nP&C is accepting vendor expo applications through Nov. 30\, 2023. Selected vendors will be notified by Dec. 15\, 2023. \nPrice Levels\nPremium Vendor – $750 (includes entry for two representatives and lunch) \nStandard Vendor – $500 (includes entry for one representative and lunch) \nHave a question? Email PEAK Conference Co-Chair Tirrell Honablew at tirrell.honablew@doa.nc.gov. \n  \nBreakout Session Proposals\nBreakout Proposal Form \nThe NC Department of Administration’s Division of Purchase & Contract is seeking breakout session presenters for the 2024 NC PEAK Procurement Conference. \nP&C is accepting proposals for conference presenters and session topics through Nov. 15\, 2023. Selected presenters will be notified by Nov. 30\, 2023. \nHave a question? Email PEAK Conference Co-Chair Tirrell Honablew at tirrell.honablew@doa.nc.gov.
URL:https://mwbecoordinators.org/event/2024-nc-peak-procurement-conference/
LOCATION:McKimmon Conference & Training Center\, 1101 Gorman Street\, Raleigh\, NC\, 27606\, United States
CATEGORIES:Conferences & Workshops
ATTACH;FMTTYPE=image/jpeg:https://mwbecoordinators.org/wp-content/uploads/2023/10/Peak-logo-final.jpg
END:VEVENT
END:VCALENDAR